BEGIN:VCALENDAR
VERSION:2.0
PRODID:SchoolNow
CALSCALE:GREGORIAN
BEGIN:VEVENT
UID:5897f7ba-73b6-11f0-a7ab-0a58a9feac02
DTSTAMP:20251216T214626Z
SUMMARY:OPEN HOUSE at PCS
URL;VALUE=URI:https://www.rsu16.org/pcs/calendar/8479334/open-house-at-pcs
DTSTART:20250825T210000Z
DTEND:20250825T220000Z
END:VEVENT
END:VCALENDAR
